BEGIN:VCALENDAR
VERSION:2.0
PRODID:-//Yosemite PCA - ECPv6.15.20//NONSGML v1.0//EN
CALSCALE:GREGORIAN
METHOD:PUBLISH
X-WR-CALNAME:Yosemite PCA
X-ORIGINAL-URL:https://yos.pca.org
X-WR-CALDESC:Events for Yosemite PCA
REFRESH-INTERVAL;VALUE=DURATION:PT1H
X-Robots-Tag:noindex
X-PUBLISHED-TTL:PT1H
BEGIN:VTIMEZONE
TZID:America/Los_Angeles
BEGIN:DAYLIGHT
TZOFFSETFROM:-0800
TZOFFSETTO:-0700
TZNAME:PDT
DTSTART:20200308T100000
END:DAYLIGHT
BEGIN:STANDARD
TZOFFSETFROM:-0700
TZOFFSETTO:-0800
TZNAME:PST
DTSTART:20201101T090000
END:STANDARD
BEGIN:DAYLIGHT
TZOFFSETFROM:-0800
TZOFFSETTO:-0700
TZNAME:PDT
DTSTART:20210314T100000
END:DAYLIGHT
BEGIN:STANDARD
TZOFFSETFROM:-0700
TZOFFSETTO:-0800
TZNAME:PST
DTSTART:20211107T090000
END:STANDARD
BEGIN:DAYLIGHT
TZOFFSETFROM:-0800
TZOFFSETTO:-0700
TZNAME:PDT
DTSTART:20220313T100000
END:DAYLIGHT
BEGIN:STANDARD
TZOFFSETFROM:-0700
TZOFFSETTO:-0800
TZNAME:PST
DTSTART:20221106T090000
END:STANDARD
BEGIN:DAYLIGHT
TZOFFSETFROM:-0800
TZOFFSETTO:-0700
TZNAME:PDT
DTSTART:20230312T100000
END:DAYLIGHT
BEGIN:STANDARD
TZOFFSETFROM:-0700
TZOFFSETTO:-0800
TZNAME:PST
DTSTART:20231105T090000
END:STANDARD
BEGIN:DAYLIGHT
TZOFFSETFROM:-0800
TZOFFSETTO:-0700
TZNAME:PDT
DTSTART:20240310T100000
END:DAYLIGHT
BEGIN:STANDARD
TZOFFSETFROM:-0700
TZOFFSETTO:-0800
TZNAME:PST
DTSTART:20241103T090000
END:STANDARD
BEGIN:DAYLIGHT
TZOFFSETFROM:-0800
TZOFFSETTO:-0700
TZNAME:PDT
DTSTART:20250309T100000
END:DAYLIGHT
BEGIN:STANDARD
TZOFFSETFROM:-0700
TZOFFSETTO:-0800
TZNAME:PST
DTSTART:20251102T090000
END:STANDARD
BEGIN:DAYLIGHT
TZOFFSETFROM:-0800
TZOFFSETTO:-0700
TZNAME:PDT
DTSTART:20260308T100000
END:DAYLIGHT
BEGIN:STANDARD
TZOFFSETFROM:-0700
TZOFFSETTO:-0800
TZNAME:PST
DTSTART:20261101T090000
END:STANDARD
END:VTIMEZONE
BEGIN:VEVENT
DTSTART;VALUE=DATE:20250815
DTEND;VALUE=DATE:20250816
DTSTAMP:20260420T044544
CREATED:20230712T032219Z
LAST-MODIFIED:20250407T023123Z
UID:12638-1755216000-1755302399@yos.pca.org
SUMMARY:Join us at Werks Reunion Monterey 8/16
DESCRIPTION:Friday\, August 15\, 2024\nMonterey Pines Golf Course\n1250 Garden Road\, Monterey\, CA 93940 \nPorsche Club of America welcomes all Porsche clubs\, owners\, and enthusiasts to the ninth annual Werks Reunion Monterey on August 15\, 2025. Join us at the Monterey Pines Golf Course to see a breathtaking array of Porsches\, from rare to current models and everything in between! \nYou are not required to be a PCA member to participate in this celebration of Porsche automobiles; however\, you must register to Corral or be Judged. Display your cherished car in model-specific Porsche Corrals\, or enter the Porsche Judged Field and compete to win in more than 20 prize categories. For those who do not wish to have their cars judged\, you may display them in the model-specific corrals or\, if the organizers see fit\, on the judged field itself. This is a casual gathering of Porsche enthusiasts focused on having fun rather than solely competition. \nClick here for more info: https://www.werksreunion.com/monterey.cfm
URL:https://yos.pca.org/event/join-us-at-werks-reunion-monterey-8-18/
CATEGORIES:PCA National Events,YOS featured events,YOS general events
ATTACH;FMTTYPE=image/png:https://yos.pca.org/wp-content/uploads/2023/07/Werks_Monterey_Logo.png
END:VEVENT
BEGIN:VEVENT
DTSTART;VALUE=DATE:20230928
DTEND;VALUE=DATE:20231002
DTSTAMP:20260420T044544
CREATED:20220924T073403Z
LAST-MODIFIED:20230801T033433Z
UID:12479-1695859200-1696204799@yos.pca.org
SUMMARY:Rennsport Reunion 7
DESCRIPTION:Join members of the Yosemite and other PCA regions at Rennsport 7 taking place in Monterey at Laguna Seca September 28th – October 1st of 2023. Tickets are on sale for members of the PCA community before the general public\, make sure you get your Porsche Corral passes now before they sell out. Look forward to seeing many of you at the event and interacting with many other passionate PCA members and indulging in the collection of Porsche Vehicles!
URL:https://yos.pca.org/event/rennsport-reunion-7/
CATEGORIES:PCA National Events,YOS featured events,YOS general events
ATTACH;FMTTYPE=image/jpeg:https://yos.pca.org/wp-content/uploads/2022/09/Rennsport_Logo-e1664004834925.jpg
END:VEVENT
BEGIN:VEVENT
DTSTART;VALUE=DATE:20230814
DTEND;VALUE=DATE:20230821
DTSTAMP:20260420T044544
CREATED:20230712T032545Z
LAST-MODIFIED:20230712T032628Z
UID:12641-1691971200-1692575999@yos.pca.org
SUMMARY:Car Week Breakdown
DESCRIPTION:Car Week: 8/14 – 8/20 \nRolex Historic Laguna Seca: 8/17 – 8/19 \nWerks: 8/18 at Monterey Pines Golf Course
URL:https://yos.pca.org/event/car-week-breakdown/
CATEGORIES:PCA National Events,YOS featured events,YOS general events
ATTACH;FMTTYPE=image/jpeg:https://yos.pca.org/wp-content/uploads/2023/07/YOS-Logo.jpg
END:VEVENT
BEGIN:VEVENT
DTSTART;VALUE=DATE:20230618
DTEND;VALUE=DATE:20230625
DTSTAMP:20260420T044544
CREATED:20211011T050721Z
LAST-MODIFIED:20230531T023624Z
UID:11626-1687046400-1687651199@yos.pca.org
SUMMARY:2023 PCA Parade -- Palm Desert\, CA
DESCRIPTION:Save the date! Porsche Parade 2023: Porsche Parade Palm Desert will take place June 18-24\, 2023 at La Quinta Resort. Keep the event on our radar as it is THE national event for PCA.
URL:https://yos.pca.org/event/2022-pca-parade-the-poconos-pa/
CATEGORIES:PCA National Events,YOS featured events,YOS general events
ATTACH;FMTTYPE=image/png:https://yos.pca.org/wp-content/uploads/2021/10/Porsche_Parade_2023-1.png
END:VEVENT
BEGIN:VEVENT
DTSTART;VALUE=DATE:20220914
DTEND;VALUE=DATE:20220919
DTSTAMP:20260420T044544
CREATED:20220108T042401Z
LAST-MODIFIED:20220108T042401Z
UID:11947-1663113600-1663545599@yos.pca.org
SUMMARY:Treffen Bend
DESCRIPTION:The fall 2022 Treffen will be held at the Sunriver Resort\, in Bend Oregon.   (Hence the name “Treffen Bend” ! \nMake plans now for Treffen Fall 2022 at the Sunriver Resort in Bend\, Oregon. Situated on the east side of the Cascade Mountains\, Bend is known for its great outdoor activities and multitude of microbreweries. The newly renovated Sunriver Resort located south of Bend by the Deschutes River is our host for the week. A cozy fireplace in your room and great drives make this a perfect Fall getaway. Stay tuned for more information.
URL:https://yos.pca.org/event/treffen-bend/
CATEGORIES:PCA National Events
ATTACH;FMTTYPE=image/png:https://yos.pca.org/wp-content/uploads/2022/01/Screen-Shot-2022-01-07-at-8.19.24-PM-e1641615824263.png
END:VEVENT
BEGIN:VEVENT
DTSTART;TZID=America/Los_Angeles:20220427T080000
DTEND;TZID=America/Los_Angeles:20220501T170000
DTSTAMP:20260420T044544
CREATED:20210821T171054Z
LAST-MODIFIED:20210821T172030Z
UID:11357-1651046400-1651424400@yos.pca.org
SUMMARY:Spring Treffen 2022
DESCRIPTION:The Spring Treffen for 2022 will be at the Broadmoor in Colorado.  If that sounds familiar\, it is because the Broadmoor was scheduled for the Spring Treffen in 2020\, which was cancelled because of COVID 19 that took grip on the nation early 2020.    \nDetails are pretty scarce right now\, but details should be announced early 2022.   \nIf you are interested in go\, make sure you talk to Chuck Pierce about tricks in registering!
URL:https://yos.pca.org/event/spring-treffen-2022/
CATEGORIES:PCA National Events
ATTACH;FMTTYPE=image/png:https://yos.pca.org/wp-content/uploads/2021/08/Spring-2022.png
END:VEVENT
BEGIN:VEVENT
DTSTART;TZID=America/Los_Angeles:20210813T080000
DTEND;TZID=America/Los_Angeles:20210813T170000
DTSTAMP:20260420T044544
CREATED:20201129T172208Z
LAST-MODIFIED:20210731T013131Z
UID:8951-1628841600-1628874000@yos.pca.org
SUMMARY:WERKS Reunion\, Monterey Aug 13th
DESCRIPTION:With the cancellation of the 2020 WERKS Reunion and widely administered vaccines\, the 2021 Monterey WERKS Reunion should be an event not to be missed!  The featured model for this year’s Reunion in Monterey:  914.To fully enjoy this year’s WERKS\, Yosemite Region is planning on an “2 Day” option:Day 1: Enjoy a “Drive” to our overnight hotel in the San Juan Bautista area over roads off the beaten track and dinner in San Juan Bautista.Day 2: Get up early and drive to WERKS! The new venue is Bayonet Golf Course in Seaside.  Just a picturesque as the recent venues.Of course\, you can just “meet” us there!    Whether you join us in San Juan Bautista or meet up at Bayonet\, please register on our Eventbrite system so we can keep track of who’s coming and enable communication to all attendees.  Register on Eventbrite here. \nRegardless though\, you must register for your WERKS tickets through Motorsportreg.com.   If you don’t have an account you will have to create your account (its free to create your account).   After 12:00.00 PM Wed\, June 23\, log onto Motorsportreg.com.   Please check your address in Motorsportreg.com as this is the address that will be used for mailing of hang tags. If you would like your hang tag mailed elsewhere\, please email events@pca.org. If you have questions regarding Werks\, please contact Tom Provasi: werksreunion@pca.org. \nYou must register in one of the two options below:   \nJudged Field Participation: Registration is $85.00 per car and includes an event bag\, reserved parking space\, commemorative goodies and automatically entered into special sponsor door prize drawings.  The price will likely go up\, space depending in a week or so. \nCorral Parking: Registration: $65.00 per car\, includes an event bag\, reserved parking space\, and automatically entered into special sponsor door prize drawings.  The price will likely go to $75 per car in a week. \nNote:   Judged Field and Corral area is limited to Porsches only. Non-Porsche automobiles will not be allowed in those areas even if you pre-purchase a corral pass.   Non-Porsche parking is available on-site for a fee the day of the event ($40 cash only). \nEvent Schedule: \n\n\n\n7:00 AM\nEvent Check-In Opens\n\n\n7:00 AM – 9:00 AM\nCars placed on the Judged Field\n\n\nAll Day\nPorsche Corral Open\n\n\n7:00 AM – 3:00 PM\nBreakfast & Coffee Carts available. Food Trucks on-site all day\n\n\n9:30 AM – 12:00 PM\nJudging\n\n\n10:00 AM – 3:00 PM\nAlcoholic beverages available\n\n\n10:30 AM -12:00 PM\nHagerty Youth Judging\n\n\n2:00 PM – 3:00 PM\nAwards Ceremony\n\n\nAll Day\nSee cars\, visit vendors\, and have fun!\n\n\n\n 
URL:https://yos.pca.org/event/werks-reunion-monterey/
CATEGORIES:PCA National Events,YOS featured events
ATTACH;FMTTYPE=image/png:https://yos.pca.org/wp-content/uploads/2021/07/WERKS-logo--e1626827261943.png
END:VEVENT
END:VCALENDAR