BEGIN:VCALENDAR
VERSION:2.0
PRODID:-//Yosemite PCA - ECPv6.15.20//NONSGML v1.0//EN
CALSCALE:GREGORIAN
METHOD:PUBLISH
X-ORIGINAL-URL:https://yos.pca.org
X-WR-CALDESC:Events for Yosemite PCA
REFRESH-INTERVAL;VALUE=DURATION:PT1H
X-Robots-Tag:noindex
X-PUBLISHED-TTL:PT1H
BEGIN:VTIMEZONE
TZID:America/Los_Angeles
BEGIN:DAYLIGHT
TZOFFSETFROM:-0800
TZOFFSETTO:-0700
TZNAME:PDT
DTSTART:20200308T100000
END:DAYLIGHT
BEGIN:STANDARD
TZOFFSETFROM:-0700
TZOFFSETTO:-0800
TZNAME:PST
DTSTART:20201101T090000
END:STANDARD
BEGIN:DAYLIGHT
TZOFFSETFROM:-0800
TZOFFSETTO:-0700
TZNAME:PDT
DTSTART:20210314T100000
END:DAYLIGHT
BEGIN:STANDARD
TZOFFSETFROM:-0700
TZOFFSETTO:-0800
TZNAME:PST
DTSTART:20211107T090000
END:STANDARD
BEGIN:DAYLIGHT
TZOFFSETFROM:-0800
TZOFFSETTO:-0700
TZNAME:PDT
DTSTART:20220313T100000
END:DAYLIGHT
BEGIN:STANDARD
TZOFFSETFROM:-0700
TZOFFSETTO:-0800
TZNAME:PST
DTSTART:20221106T090000
END:STANDARD
BEGIN:DAYLIGHT
TZOFFSETFROM:-0800
TZOFFSETTO:-0700
TZNAME:PDT
DTSTART:20230312T100000
END:DAYLIGHT
BEGIN:STANDARD
TZOFFSETFROM:-0700
TZOFFSETTO:-0800
TZNAME:PST
DTSTART:20231105T090000
END:STANDARD
BEGIN:DAYLIGHT
TZOFFSETFROM:-0800
TZOFFSETTO:-0700
TZNAME:PDT
DTSTART:20240310T100000
END:DAYLIGHT
BEGIN:STANDARD
TZOFFSETFROM:-0700
TZOFFSETTO:-0800
TZNAME:PST
DTSTART:20241103T090000
END:STANDARD
END:VTIMEZONE
BEGIN:VEVENT
DTSTART;VALUE=DATE:20230318
DTEND;VALUE=DATE:20230319
DTSTAMP:20260422T011038
CREATED:20220221T015437Z
LAST-MODIFIED:20230305T012653Z
UID:12139-1679097600-1679183999@yos.pca.org
SUMMARY:*CANCELLED* Spring Tour and Luncheon to Ironstone Vineyards
DESCRIPTION:We will be meeting in Oakdale for the pre-drive meeting and paperwork.  We will head north through country roads and the valley’s ag belt\, traveling into the rolling green foothills. With all the rain this year\, it should be wonderful with everything starting to bloom. We will ultimately find our way up to Highway 49 and finishing at the beautiful Ironstone Vineyards. This time of the year is special for Ironstone as their thousands of planted bulbs are in full bloom. Stroll through the winery grounds at your leisure.  We are arranging for special parking. Everyone is welcome to enjoy lunch at the winery deli or head over to Main Street in Murphy’s where there will be many dining option.  This is a No Host event. \nMeeting location:  Former Kmart\, 175 S. Maag Ave.\, Oakdale\, Ca 95361\nPaperwork and tour briefing: 10:30 – 11:00 am\nOn the road: 11:00 AM\nDrive time: Approximately 2 hours\nDrive distance: Approximately 100 miles \n This is a free event.  Please sign up on the enclosed Eventbrite link below
URL:https://yos.pca.org/event/spring-tour-and-luncheon-to-ironstone-vineyards/
CATEGORIES:YOS featured events,YOS general events
ATTACH;FMTTYPE=image/jpeg:https://yos.pca.org/wp-content/uploads/2022/02/IMG_0655-e1645408456333.jpg
END:VEVENT
BEGIN:VEVENT
DTSTART;TZID=America/Los_Angeles:20230128T090000
DTEND;TZID=America/Los_Angeles:20230128T150000
DTSTAMP:20260422T011038
CREATED:20230106T012909Z
LAST-MODIFIED:20230106T012909Z
UID:12540-1674896400-1674918000@yos.pca.org
SUMMARY:Blain Motorsports Foundation Drive & Tour
DESCRIPTION:As our second official event of 2023\, come and joint us for a “not to be missed” winter drive and tour of the Blain Motorsports Foundation in Visalia California.  The Blain Motorsports Foundation is famous for searching for historical race cars that time has forgotten.  These cars are painstaking restored to their former glory.  The Foundation is active in racing several restored pre-war (WW2) Indy cars. These cars are raced at vintage events nationally.  \nThe day will start with a pre-drive briefing and paperwork at the following meeting location: \nMcDonald’s located @ 1382 Colony Road in Ripon.  Meeting time will be 9:00 AM.\nOn the road by 9:30 AM and it will be roughly a 2.5 hour drive southbound 99 directly to Blain Motorsports located at 3008 South Burke Street in Visalia.\nPlease note that this a brown bag event\, so pack a lunch. \nThis is a free event and limited to 40 cars. \nVisit their website at www.blainfoundation.org \nPlease sign up on the enclosed Eventbrite link:
URL:https://yos.pca.org/event/blain-motorsports-foundation-drive-tour/
CATEGORIES:YOS featured events,YOS general events
END:VEVENT
BEGIN:VEVENT
DTSTART;TZID=America/Los_Angeles:20221110T190000
DTEND;TZID=America/Los_Angeles:20221110T203000
DTSTAMP:20260422T011038
CREATED:20221110T074048Z
LAST-MODIFIED:20221110T074121Z
UID:12512-1668106800-1668112200@yos.pca.org
SUMMARY:Board Meeting November 10th
DESCRIPTION:Join us at D’boni’s pizzeria in Escalon for a pie and discussion about upcoming events!
URL:https://yos.pca.org/event/board-meeting-november-10th/
CATEGORIES:YOS featured events,YOS general events
END:VEVENT
BEGIN:VEVENT
DTSTART;TZID=America/Los_Angeles:20221013T180000
DTEND;TZID=America/Los_Angeles:20221013T203000
DTSTAMP:20260422T011038
CREATED:20220919T213301Z
LAST-MODIFIED:20220919T213616Z
UID:12466-1665684000-1665693000@yos.pca.org
SUMMARY:Board Meeting October 13th
DESCRIPTION:
URL:https://yos.pca.org/event/board-meeting-october-13th/
CATEGORIES:YOS featured events,YOS general events
END:VEVENT
BEGIN:VEVENT
DTSTART;TZID=America/Los_Angeles:20220908T190000
DTEND;TZID=America/Los_Angeles:20220908T203000
DTSTAMP:20260422T011038
CREATED:20220713T210737Z
LAST-MODIFIED:20220713T210737Z
UID:12398-1662663600-1662669000@yos.pca.org
SUMMARY:Board Meeting  Sept 8th
DESCRIPTION:Monthly meeting to discuss issues facing the board\, event planning and coordination\, etc. Agenda will be available the day of the meeting. Location: D’boni’s Pizza\, Escalon.  All members welcome. Contact Dave Boyd to attend.
URL:https://yos.pca.org/event/board-meeting-sept-8th/
CATEGORIES:YOS general events
ATTACH;FMTTYPE=image/jpeg:https://yos.pca.org/wp-content/uploads/2021/09/YOS-board-meeting-ver-2.jpg
END:VEVENT
BEGIN:VEVENT
DTSTART;TZID=America/Los_Angeles:20220811T190000
DTEND;TZID=America/Los_Angeles:20220811T203000
DTSTAMP:20260422T011038
CREATED:20220713T210623Z
LAST-MODIFIED:20220713T210623Z
UID:12396-1660244400-1660249800@yos.pca.org
SUMMARY:Board Meeting Aug 11th
DESCRIPTION:Monthly meeting to discuss issues facing the board\, event planning and coordination\, etc. Agenda will be available the day of the meeting. Location: D’boni’s Pizza\, Escalon.  All members welcome. Contact Dave Boyd to attend.
URL:https://yos.pca.org/event/board-meeting-aug-11th/
CATEGORIES:YOS general events
ATTACH;FMTTYPE=image/jpeg:https://yos.pca.org/wp-content/uploads/2021/09/YOS-board-meeting-ver-2.jpg
END:VEVENT
BEGIN:VEVENT
DTSTART;TZID=America/Los_Angeles:20220714T190000
DTEND;TZID=America/Los_Angeles:20220714T203000
DTSTAMP:20260422T011038
CREATED:20220524T213845Z
LAST-MODIFIED:20220524T222305Z
UID:12336-1657825200-1657830600@yos.pca.org
SUMMARY:Yosemite Board Meeting   July 14
DESCRIPTION:Monthly meeting to discuss issues facing the board\, event planning and coordination\, etc. Agenda will be available the day of the meeting. Location: D’boni’s Pizza\, Escalon.  All members welcome. Contact Dave Boyd to attend.
URL:https://yos.pca.org/event/yosemite-board-meeting-july-14/
CATEGORIES:YOS general events
ATTACH;FMTTYPE=image/jpeg:https://yos.pca.org/wp-content/uploads/2021/09/YOS-board-meeting-ver-2.jpg
END:VEVENT
BEGIN:VEVENT
DTSTART;TZID=America/Los_Angeles:20220609T190000
DTEND;TZID=America/Los_Angeles:20220609T203000
DTSTAMP:20260422T011038
CREATED:20220524T213434Z
LAST-MODIFIED:20220524T222503Z
UID:12330-1654801200-1654806600@yos.pca.org
SUMMARY:Yosemite Board Meeting  June 9th
DESCRIPTION:Monthly meeting to discuss issues facing the board\, event planning and coordination\, etc. Agenda will be available the day of the meeting. Location: D’boni’s Pizza\, Escalon.  All members welcome. Contact Dave Boyd to attend.
URL:https://yos.pca.org/event/yosemite-board-meeting-june-9th/
CATEGORIES:YOS general events
ATTACH;FMTTYPE=image/jpeg:https://yos.pca.org/wp-content/uploads/2021/09/YOS-board-meeting-ver-2.jpg
END:VEVENT
BEGIN:VEVENT
DTSTART;TZID=America/Los_Angeles:20220512T190000
DTEND;TZID=America/Los_Angeles:20220512T203000
DTSTAMP:20260422T011038
CREATED:20220127T170428Z
LAST-MODIFIED:20220127T170428Z
UID:12028-1652382000-1652387400@yos.pca.org
SUMMARY:Board Meeting   May 12th
DESCRIPTION:Monthly meeting to discuss issues facing the board\, event planning and coordination\, etc. Agenda will be available the day of the meeting. Location: Grains of Virtue\, Oakdale.All members welcome. Contact Dave Boyd to attend.
URL:https://yos.pca.org/event/board-meeting-may-12th/
CATEGORIES:YOS general events
ATTACH;FMTTYPE=image/jpeg:https://yos.pca.org/wp-content/uploads/2021/09/YOS-board-meeting-ver-2.jpg
END:VEVENT
BEGIN:VEVENT
DTSTART;TZID=America/Los_Angeles:20220414T190000
DTEND;TZID=America/Los_Angeles:20220414T203000
DTSTAMP:20260422T011038
CREATED:20220127T170240Z
LAST-MODIFIED:20220127T170240Z
UID:12026-1649962800-1649968200@yos.pca.org
SUMMARY:Board Meeting   April 14
DESCRIPTION:Monthly meeting to discuss issues facing the board\, event planning and coordination\, etc. Agenda will be available the day of the meeting. Location: Grains of Virtue\, Oakdale.All members welcome. Contact Dave Boyd to attend.
URL:https://yos.pca.org/event/board-meeting-april-14/
CATEGORIES:YOS general events
ATTACH;FMTTYPE=image/jpeg:https://yos.pca.org/wp-content/uploads/2021/09/YOS-board-meeting-ver-2.jpg
END:VEVENT
BEGIN:VEVENT
DTSTART;TZID=America/Los_Angeles:20220310T190000
DTEND;TZID=America/Los_Angeles:20220310T203000
DTSTAMP:20260422T011038
CREATED:20220108T041328Z
LAST-MODIFIED:20220108T041328Z
UID:11945-1646938800-1646944200@yos.pca.org
SUMMARY:Board Meeting:  March 10th
DESCRIPTION:Monthly meeting to discuss issues facing the board\, event planning and coordination\, etc. Agenda will be available the day of the meeting. Location: Grains of Virtue\, Oakdale.All members welcome. Contact Dave Boyd to attend.
URL:https://yos.pca.org/event/board-meeting-march-10th/
CATEGORIES:YOS general events
ATTACH;FMTTYPE=image/jpeg:https://yos.pca.org/wp-content/uploads/2021/09/YOS-board-meeting-ver-2.jpg
END:VEVENT
BEGIN:VEVENT
DTSTART;TZID=America/Los_Angeles:20220210T190000
DTEND;TZID=America/Los_Angeles:20220210T210000
DTSTAMP:20260422T011038
CREATED:20211212T230432Z
LAST-MODIFIED:20211212T230539Z
UID:11873-1644519600-1644526800@yos.pca.org
SUMMARY:Board Meeting: Feb 10
DESCRIPTION:Monthly meeting to discuss issues facing the board\, event planning and coordination\, etc. Agenda will be available the day of the meeting. Location:  Grains of Virtue\, Oakdale.All members welcome. Contact Dave Boyd to attend.  
URL:https://yos.pca.org/event/board-meeting-feb-10/
CATEGORIES:YOS general events
ATTACH;FMTTYPE=image/jpeg:https://yos.pca.org/wp-content/uploads/2021/09/YOS-board-meeting-ver-2.jpg
END:VEVENT
BEGIN:VEVENT
DTSTART;TZID=America/Los_Angeles:20220106T190000
DTEND;TZID=America/Los_Angeles:20220106T210000
DTSTAMP:20260422T011038
CREATED:20211118T194300Z
LAST-MODIFIED:20220102T191745Z
UID:11808-1641495600-1641502800@yos.pca.org
SUMMARY:Board Meeting  Jan 6th
DESCRIPTION:The board is likely to hold its board meeting in January\, however there is a chance we will defer the Jan meeting. If so\, the board will post the deferral on the website…..\nOtherwise\, the meeting will be held at the Grains of Virtue in Oakdale. The meeting will address more detailed planning of the 2022 events schedule.
URL:https://yos.pca.org/event/board-meeting-jan-13th/
CATEGORIES:YOS general events
ATTACH;FMTTYPE=image/jpeg:https://yos.pca.org/wp-content/uploads/2021/09/YOS-board-meeting-ver-2.jpg
END:VEVENT
BEGIN:VEVENT
DTSTART;TZID=America/Los_Angeles:20211209T190000
DTEND;TZID=America/Los_Angeles:20211209T203000
DTSTAMP:20260422T011038
CREATED:20211116T215033Z
LAST-MODIFIED:20211117T005819Z
UID:11801-1639076400-1639081800@yos.pca.org
SUMMARY:Board Meeting Dec 9
DESCRIPTION:Monthly meeting to discuss issues facing the board\, event planning and coordination\, etc. Agenda will be available the day of the meeting. Location:Grains of Virtue Brewing: 832 N Yosemite Ave\, Oakdale\, CA 95361   All members are welcome. Contact Dave Boyd to attend. \nThis meeting will be predominately a “Planning” meeting for our 2022 Event Schedule
URL:https://yos.pca.org/event/board-meeting-dec-9/
CATEGORIES:YOS general events
ATTACH;FMTTYPE=image/jpeg:https://yos.pca.org/wp-content/uploads/2021/09/YOS-board-meeting-ver-2.jpg
END:VEVENT
BEGIN:VEVENT
DTSTART;TZID=America/Los_Angeles:20211205T150000
DTEND;TZID=America/Los_Angeles:20211205T180000
DTSTAMP:20260422T011038
CREATED:20211011T051956Z
LAST-MODIFIED:20211118T160113Z
UID:11628-1638716400-1638727200@yos.pca.org
SUMMARY:2021 Annual Meeting/Holiday Dinner  --Dec 5th
DESCRIPTION:2021 Holiday Party\n\n\nCome join us at Chefs Of New York in Modesto. Their new location is at 918 13th Street–site of the old Ragin’ Cajun Kitchen. \nDinner will be from 3-6\, after the restaurant has closed to the public.  We will start with a “happy Hour” from 3-4 with dinner at between 4:00 and 4:30.   We will have an announcement/event for Toys for Tots collection/donations recognition at about 5:30.   The region will announce the new region President and Vice President (big suspense\, right?). \nWe will start with bruschetta and charcuterie boards as “group” appetizers.   Dinner will have a choice of soup (pasta fagipoli or clam chowder) OR salad (Italian or Caesar).   Choice of entree:  Peppercorn steak\, sun dried tomato chicken alfredo\, vegetaarian gnocchi or salmon with rice and vegetables.   Dessert choices: cheesecake or mini-cannoli — served as “group” desserts.   Beverages will be your choice of coffee\, tea or wine. \nBeer and/or cocktails will ve available at a no host/cash bar for member purchase \nPrice:  $49 per person.  The region will be subsidizing part of the expense of the meal to keep the price constant. \nTo register\, go to our Eventbrite link:  the GT3 button:
URL:https://yos.pca.org/event/2022-annual-meeting-holiday-dinner-date-is-tbd/
CATEGORIES:YOS featured events,YOS general events
ATTACH;FMTTYPE=image/jpeg:https://yos.pca.org/wp-content/uploads/2021/10/https-cdn.evbuc_.com-images-173705659-429022453204-1-original.20211025-205147.jpeg
END:VEVENT
BEGIN:VEVENT
DTSTART;VALUE=DATE:20210101
DTEND;VALUE=DATE:20210202
DTSTAMP:20260422T011038
CREATED:20201213T223123Z
LAST-MODIFIED:20201227T201859Z
UID:9071-1609459200-1612223999@yos.pca.org
SUMMARY:Yosemite Region "Photo Contest"    Show us your Porsche!
DESCRIPTION:The Yosemite Region “Photo Contest” is something you can do with your Porsche while “staying at home”. \nThis photo contest is a real\, but virtual event\, with rules and real prizes!   This is your chance to take your car out for a “photo shoot” to create an “image”\, not just a “picture” of your car.   The contest will accept all entries from Jan 1 to Feb 1\, 2021.   Submissions should be sent to “webmaster@yos.pca.org” (you can use the Contact page of the website\, or send directly via your emailer.)    Entries should list your name\, address (where to send the prizes)\, names of any people in the photo\, in jpeg format with a file size of less than 5. MB.  All photos should be your “own” effort (no professional entries).   You can also submit general information about the location of the “photo shoot” or the fun you had doing the “photo shoot”. \nThe photos will be “judged” by:  Brian Sturkie (President Yosemite Region)\, Don Chaisson (Webmaster) and Collin Fat (Zone 7 Representative).    All decisions by the judges will be final.\nPrizes:  1st Place: Choose: Porsche Thermos Mug (you pick the color) or Porsche Bourbon Glass Set;  2nd Place:  Choose: Porsche key chain/fob or “Porsche Parking Only” sign; 3rd Place:  Coffee Cup-FA Porsche Design.   All prizes will be sent you your home. \nFor a full description of the contest AND tips on taking photos of your car. Click HERE\nThe “tips” are based on a Tech Tactics presentation by Michael Ross (you see his work often on the cover of Panorama and various articles in Panorama and other national car magazines!  And\, in the December Panorama\, there is an article by Randy Wells on “Behind the Senes at our Photo shoot of the Emory AWD 356”. In the article\, Randy chronicles his approach to a “photo shoot” and provides valuable hints\, including: 10 Photo Dont’s\, and 10 Photo Do’s.
URL:https://yos.pca.org/event/yosemite-region-photo-contest-show-us-your-porsche/
CATEGORIES:YOS featured events,YOS general events
END:VEVENT
END:VCALENDAR