BEGIN:VCALENDAR
VERSION:2.0
PRODID:-//Yosemite PCA - ECPv6.15.20//NONSGML v1.0//EN
CALSCALE:GREGORIAN
METHOD:PUBLISH
X-WR-CALNAME:Yosemite PCA
X-ORIGINAL-URL:https://yos.pca.org
X-WR-CALDESC:Events for Yosemite PCA
REFRESH-INTERVAL;VALUE=DURATION:PT1H
X-Robots-Tag:noindex
X-PUBLISHED-TTL:PT1H
BEGIN:VTIMEZONE
TZID:America/Los_Angeles
BEGIN:DAYLIGHT
TZOFFSETFROM:-0800
TZOFFSETTO:-0700
TZNAME:PDT
DTSTART:20200308T100000
END:DAYLIGHT
BEGIN:STANDARD
TZOFFSETFROM:-0700
TZOFFSETTO:-0800
TZNAME:PST
DTSTART:20201101T090000
END:STANDARD
BEGIN:DAYLIGHT
TZOFFSETFROM:-0800
TZOFFSETTO:-0700
TZNAME:PDT
DTSTART:20210314T100000
END:DAYLIGHT
BEGIN:STANDARD
TZOFFSETFROM:-0700
TZOFFSETTO:-0800
TZNAME:PST
DTSTART:20211107T090000
END:STANDARD
BEGIN:DAYLIGHT
TZOFFSETFROM:-0800
TZOFFSETTO:-0700
TZNAME:PDT
DTSTART:20220313T100000
END:DAYLIGHT
BEGIN:STANDARD
TZOFFSETFROM:-0700
TZOFFSETTO:-0800
TZNAME:PST
DTSTART:20221106T090000
END:STANDARD
END:VTIMEZONE
BEGIN:VEVENT
DTSTART;TZID=America/Los_Angeles:20210806T160000
DTEND;TZID=America/Los_Angeles:20210806T200000
DTSTAMP:20260420T155147
CREATED:20210709T230029Z
LAST-MODIFIED:20210731T013047Z
UID:10683-1628265600-1628280000@yos.pca.org
SUMMARY:Oakdale Country Club Car Show !Aug 6th
DESCRIPTION:Oakdale Country Club will host a “Car Show” Friday\, August 6th.   This is NOT a concours\, but an informal gathering of all cars of interest\, or owners interested in “showing” their cars!! \nThe organizers have reserved 15 “spots” for Yosemite Region members to “show” their cars\, all in a “corral” of sorts\, but right along side all sorts of other cars from early “muscle” cars to “hot rods”.   Each registrant will be treated to a dinner provided by the event organizers\, reasonably priced at $25.   Additional dinners will also be available for $25.  Be sure to “buy” one admission ticket for one of the 15 spots\, and\, then\, buy any extra dinner tickets with the dinner only ticket option.  Note\, each “dinner” comes with one “drink ticket” to complete the meal! \nThe plan is for all of our registrants to gather in the Oakdale CC parking lot between 4:00 and 4:15 PM.   The event organizers will then direct us to our designated places on the “lawn”.  If you are late\, no problem\, as the space is reserved. \nTo register\, click on the GT3 Registration button:
URL:https://yos.pca.org/event/oakdale-country-club-car-show/
CATEGORIES:YOS featured events
ATTACH;FMTTYPE=image/jpeg:https://yos.pca.org/wp-content/uploads/2021/06/IMG_3464-scaled-e1626915909564.jpg
END:VEVENT
BEGIN:VEVENT
DTSTART;TZID=America/Los_Angeles:20210710T090000
DTEND;TZID=America/Los_Angeles:20210710T110000
DTSTAMP:20260420T155147
CREATED:20210617T234905Z
LAST-MODIFIED:20210701T145011Z
UID:10680-1625907600-1625914800@yos.pca.org
SUMMARY:YOS Tech Talk #3  Zucchi Restorations July 10th
DESCRIPTION:Frank Zucchi will host an open house at his shop in Oakdale\, just for Yosemite Region!    Frank will be in the throws of preparing for “Car Week” concours events coming in August\, so this will give our members a rare look behind the scenes of Concours preparation at the highest level for and event of the highest level. \nEventbrite registration is free and is just to keep track of how many people to expect.  To go to the Eventbrite registration\, click the GT3 Registration button!  \n \n \n \n  \n  \n  \n  \n  \n  \n  \n  \n  \n  \n  \n  \n  \n  \n  \n  \n  \n  \n  \n  \n  \n  \n 
URL:https://yos.pca.org/event/yos-tech-talk-3-zucchi-restorations/
CATEGORIES:YOS featured events
ATTACH;FMTTYPE=image/png:https://yos.pca.org/wp-content/uploads/2021/06/Screen-Shot-2021-06-17-at-4.11.30-PM.png
END:VEVENT
BEGIN:VEVENT
DTSTART;TZID=America/Los_Angeles:20210514T120000
DTEND;TZID=America/Los_Angeles:20210516T120000
DTSTAMP:20260420T155147
CREATED:20210212T190151Z
LAST-MODIFIED:20210429T171020Z
UID:9751-1620993600-1621166400@yos.pca.org
SUMMARY:Yosemite/Tenaya Lodge (multi-day) Event
DESCRIPTION:Our signature Yosemite National Park visit will be a three day\, 2 night stay at the 4 diamond Tenaya Lodge in Fish Camp\, on the door of the Yosemite National Park.  Registration is closed\, but watch YOS.PCA.ORG for reports on the trip!  \nItinerary  \nFriday\, May 14\, 12:00.   We will assemble at Smokey’s Neighborhood Grill\, 501 Bangs Ave\, Modesto.   Members may get there early and enjoy a quick lunch at Smokey’s before we head out on Drive #1.   The route will take a few “new” roads out before a “rest stop” in Mariposa.  Then continue to the Lodge\, again on “new” roads and then a blast up Hwy 41 to Fish Camp.   Once at the Lodge\, we will park our cars in a specially designated parking area in front of the Lodge; then check in and settle in our rooms.   Before we gather for the Lodge’s 4 course dinner\, served in our own dinning room/area\, we might huddle in small groups to share some adult beverages and get caught up on all that is news of the day.   During registration\, you will select your entree of either New York Strip Steak w/ mashed potatoes & seasonal vegetables\, chimichurri sauce\, OR Bucatini Pasta in tomato vodka sauce\, grilled vegetables w/ shaved Parmesan cheese.   After dinner\, we are free to continue to gather or just turn in for the night. \nSaturday\, May 15.   \nBreakfast:  8:00 – 9:00 (timing may change) We will gather for a hot breakfast of scrambled eggs with bacon\, house potatoes\, danish or toast in the Lodge and prepare for the day’s activities:  two to choose from. \nActivity 1)  Take a relaxing drive into the park and enjoy spring time in the Yosemite Valley.  Water falls should be roaring (louder if we get more rain soon!) and the walks to Mirror Lake cool and relaxing.  More strenuous hikes are always an option.  Lunch will be on your own. \nOR \nActivity 2)  We will be leading a more lively drive into Fresno County past Bass Lake\,  through New Auberry and Alder Springs and stopping for lunch (no host) at Table Mountain Casino and Golf course.  Then the “loop” will take us back past Bass Lake (via a different route) and then back to Hwy 41 and Tenaya Lodge. \nAfter relaxing in our rooms\, we will again gather for another 4 course dinner at the Lodge.  Entree choices will be:  Roaster Chicken Breast\, boursin cheese\, roasted corn bread pudding\, vegetables\, honey herb jus\, roasted red pepper puree\, OR Vegetable Wellington (zucchini\, eggplant\, butternut squash\, onion\, spinach\, garlic feta cheese) with a port syrup mashed potatoes. \nSunday May 16: \nBefore check out\, the Lodge will serve a Continental “to go” breakfast (Yogurt\, Danish\, Fruit) that you may enjoy with other Yosemite members\, or take with you to continue exploring the area or Yosemite Valley or for your return trip to your “home base”. \nRegistration priority will be given to Yosemite Region members through March 29 before making the trip available to members of our neighboring regions; but registration will CLOSE on April 4th!   That said\, we expect our block of rooms to sell out quickly\, after all\, the Spring Treffen to Scottsdale sold all reservations in “9 minutes” — yes\, all spots (@100) gone in less than a couple hot laps around Laguna Seca !! \nTo register\, click on the GT3 registration button below to be directed to our Eventbrite event.  Note:  Registration begins March 17th 7:00 PM.    \nAt registration\, a $850 ($799.69 + Eventbrite fees) down payment to Eventbrite will cover your first night’s lodging\, food and various fees/taxes. The balance due of $310—your second hotel night—can be paid with a credit card at check-in/check-out. \nCOVID-19\nBecause Yosemite Region and PCA value everyone’s safety\, all state\, county and local requirements and guidelines will be adhered to for the event. Additionally\, all members will remain “socially distant” as practical and will wear masks when not in their cars. During meals\, we will practice “distancing” as needed.  If the environment changes before or a situation develops during an event where it cannot be done safely\, we will cancel the event. \n 
URL:https://yos.pca.org/event/yosemite-tenaya-lodge-event/
CATEGORIES:YOS featured events
ATTACH;FMTTYPE=image/png:https://yos.pca.org/wp-content/uploads/2021/02/Screen-Shot-2021-02-12-at-10.58.18-AM-e1613156489507.png
END:VEVENT
BEGIN:VEVENT
DTSTART;TZID=America/Los_Angeles:20210417T090000
DTEND;TZID=America/Los_Angeles:20210417T140000
DTSTAMP:20260420T155147
CREATED:20210102T192002Z
LAST-MODIFIED:20210330T025537Z
UID:9388-1618650000-1618668000@yos.pca.org
SUMMARY:"Tour" and "Taste" event at St Jorge Winery\, Acampo CA
DESCRIPTION:Date:  April 17:  This event was originally planned as a virtual tasting\, but after visiting the winery several Board members recommended we make this an in-person even!   Membership Chair Anthony Vierra has put together a guided tasting at St Jorge Winery.   The St. Jorge Winery is a boutique-size winery specializing in Portuguese varietals grown locally and at the estate. Their varietals include Tempranillo\, Verdelho\, Portuguese “Port”\, Syrah\, Touriga Nacional and Old Vine Zinfandel. \nThe event will begin in Farmington\, rallying at Lagorions on the corner of Hwy 4 and Escalon Road\, Sat April 17th at @ 8:30 AM.   Parking is odd as “double” parking off Highway 4 is allowed/encouraged.   We will leave @ 9:00\, continuing east to Angels Camp\, then north on Highway 49 (The Golden Chain Highway)\, through Jackson\, then West on Highway 88 and onto the winery in Acampo. \nLunch will be members’ own picnic lunch on the winery grounds.  The winery will prepackage two wines: one white and one red wine from their collection for $37 plus Eventbrite fees paid at registration.  Winery staff will lead a “tasting” at 1PM of the two wines selected for the “package deal”. \nReady to GO??    Click the GT3 button to be directed to Eventbrite.com to register for the event:  \nDon’t forget that in accordance with National PCA guidelines\, you’ll need a Communicable Disease Waiver and a mask This event will be an outdoor event but restrictions in San Joaquin County remain at the high. \nThanks for your patience as the Region continues to explore new activities that comply with local and county guidelines.
URL:https://yos.pca.org/event/tour-and-taste-event-at-st-jorge-winery-acampo-ca/
CATEGORIES:YOS featured events
ATTACH;FMTTYPE=image/png:https://yos.pca.org/wp-content/uploads/2021/01/St-Jorge-event-featured--e1616590719106.png
END:VEVENT
BEGIN:VEVENT
DTSTART;TZID=America/Los_Angeles:20210328T090000
DTEND;TZID=America/Los_Angeles:20210328T140000
DTSTAMP:20260420T155147
CREATED:20210102T194024Z
LAST-MODIFIED:20210201T042008Z
UID:9396-1616922000-1616940000@yos.pca.org
SUMMARY:SUV Offroad Drive   -- Tentative
DESCRIPTION:Yosemite Region has taken its members on all sorts of “Drives” on all sorts of “roads” — but never “off road” (though some may have thought that some of our more adventurous roads were not “roads” per se!). \nSo\, we are contemplating a “drive” that is intentionally “off road” and intended for our high(er) ground clearance Porsches of the 4-door variety. \nThe idea is a drive with a destination for lunch — which may be a take out and tail gate.
URL:https://yos.pca.org/event/suv-offroad-drive-tentative/
ATTACH;FMTTYPE=image/jpeg:https://yos.pca.org/wp-content/uploads/2021/01/269993_Hors_route_en_Porsche_Cayenne_ma_grand-mere_pourrait_le_faire.jpg
END:VEVENT
BEGIN:VEVENT
DTSTART;VALUE=DATE:20210101
DTEND;VALUE=DATE:20210202
DTSTAMP:20260420T155147
CREATED:20201213T223123Z
LAST-MODIFIED:20201227T201859Z
UID:9071-1609459200-1612223999@yos.pca.org
SUMMARY:Yosemite Region "Photo Contest"    Show us your Porsche!
DESCRIPTION:The Yosemite Region “Photo Contest” is something you can do with your Porsche while “staying at home”. \nThis photo contest is a real\, but virtual event\, with rules and real prizes!   This is your chance to take your car out for a “photo shoot” to create an “image”\, not just a “picture” of your car.   The contest will accept all entries from Jan 1 to Feb 1\, 2021.   Submissions should be sent to “webmaster@yos.pca.org” (you can use the Contact page of the website\, or send directly via your emailer.)    Entries should list your name\, address (where to send the prizes)\, names of any people in the photo\, in jpeg format with a file size of less than 5. MB.  All photos should be your “own” effort (no professional entries).   You can also submit general information about the location of the “photo shoot” or the fun you had doing the “photo shoot”. \nThe photos will be “judged” by:  Brian Sturkie (President Yosemite Region)\, Don Chaisson (Webmaster) and Collin Fat (Zone 7 Representative).    All decisions by the judges will be final.\nPrizes:  1st Place: Choose: Porsche Thermos Mug (you pick the color) or Porsche Bourbon Glass Set;  2nd Place:  Choose: Porsche key chain/fob or “Porsche Parking Only” sign; 3rd Place:  Coffee Cup-FA Porsche Design.   All prizes will be sent you your home. \nFor a full description of the contest AND tips on taking photos of your car. Click HERE\nThe “tips” are based on a Tech Tactics presentation by Michael Ross (you see his work often on the cover of Panorama and various articles in Panorama and other national car magazines!  And\, in the December Panorama\, there is an article by Randy Wells on “Behind the Senes at our Photo shoot of the Emory AWD 356”. In the article\, Randy chronicles his approach to a “photo shoot” and provides valuable hints\, including: 10 Photo Dont’s\, and 10 Photo Do’s.
URL:https://yos.pca.org/event/yosemite-region-photo-contest-show-us-your-porsche/
CATEGORIES:YOS featured events,YOS general events
END:VEVENT
END:VCALENDAR